BEGIN:VCALENDAR
VERSION:2.0
PRODID:DPCALENDAR
CALSCALE:GREGORIAN
BEGIN:VTIMEZONE
TZID:UTC
X-MICROSOFT-CDO-TZID:0
END:VTIMEZONE
X-WR-TIMEZONE:UTC
BEGIN:VEVENT
DTSTART;VALUE=DATE:20210316
DTEND;VALUE=DATE:20210401
UID:90CAF9F4-6CD2-4824-A9AB-CBC8127A9508
SUMMARY:PERIODO PROMOCION 20% AUSTRAL
DTSTAMP:20210103T124046Z
DESCRIPTION:PERIODO PROMOCIONAL: 20% DESCUENTO TIENDA ONLINE CLUB AUSTRAL
X-ALT-DESC;FMTTYPE=text/html:<p><span style="box-sizing: border-box; margin: 0px; padding: 0px; border: 0px; font-variant-numeric: inherit; font-variant-east-asian: inherit; font-stretch: inherit; line-height: inherit; font-family: Arial, Helvetica, sans-serif; font-size: 13px; vertical-align: baseline; color: #ffffff; background-color: #333333;">PERIODO PROMOCIONAL: </span><b style="box-sizing: border-box; margin: 0px; padding: 0px; border: 0px; font-variant-numeric: inherit; font-variant-east-asian: inherit; font-stretch: inherit; line-height: inherit; font-family: Arial, Helvetica, sans-serif; font-size: 13px; vertical-align: baseline; color: #ffffff; background-color: #333333;"><span style="box-sizing: border-box; margin: 0px; padding: 0px; border: 0px; font-style: inherit; font-variant: inherit; font-weight: inherit; font-stretch: inherit; line-height: inherit; font-family: inherit; font-size: 1.5em; vertical-align: baseline; color: #e60094;">20% DESCUENTO TIENDA ONLINE CLUB AUSTRAL</span></b></p>
LAST-MODIFIED:20210103T124125Z
X-ACCESS:1
X-HITS:415
X-URL:http://clientes.austral.es/clubs/omuino/index.php
X-COLOR:FF0A6C
END:VEVENT
END:VCALENDAR